BEGIN:VCALENDAR
VERSION:2.0
PRODID:-//Boston Acupuncture Project - ECPv6.15.20//NONSGML v1.0//EN
CALSCALE:GREGORIAN
METHOD:PUBLISH
X-WR-CALNAME:Boston Acupuncture Project
X-ORIGINAL-URL:https://bostonacupunctureproject.org
X-WR-CALDESC:Events for Boston Acupuncture Project
REFRESH-INTERVAL;VALUE=DURATION:PT1H
X-Robots-Tag:noindex
X-PUBLISHED-TTL:PT1H
BEGIN:VTIMEZONE
TZID:America/New_York
BEGIN:DAYLIGHT
TZOFFSETFROM:-0500
TZOFFSETTO:-0400
TZNAME:EDT
DTSTART:20230312T070000
END:DAYLIGHT
BEGIN:STANDARD
TZOFFSETFROM:-0400
TZOFFSETTO:-0500
TZNAME:EST
DTSTART:20231105T060000
END:STANDARD
BEGIN:DAYLIGHT
TZOFFSETFROM:-0500
TZOFFSETTO:-0400
TZNAME:EDT
DTSTART:20240310T070000
END:DAYLIGHT
BEGIN:STANDARD
TZOFFSETFROM:-0400
TZOFFSETTO:-0500
TZNAME:EST
DTSTART:20241103T060000
END:STANDARD
BEGIN:DAYLIGHT
TZOFFSETFROM:-0500
TZOFFSETTO:-0400
TZNAME:EDT
DTSTART:20250309T070000
END:DAYLIGHT
BEGIN:STANDARD
TZOFFSETFROM:-0400
TZOFFSETTO:-0500
TZNAME:EST
DTSTART:20251102T060000
END:STANDARD
END:VTIMEZONE
BEGIN:VEVENT
DTSTART;TZID=America/New_York:20240821T180000
DTEND;TZID=America/New_York:20240821T203000
DTSTAMP:20260419T114210
CREATED:20240816T210548Z
LAST-MODIFIED:20240820T200612Z
UID:2204-1724263200-1724272200@bostonacupunctureproject.org
SUMMARY:Mutulu Shakur Teach-In & Acupuncture Clinic
DESCRIPTION:(We’re not organizing this event\, just uplifting!) The Boston Liberation Center offers a teach-in about Dr. Mutulu Shakur starting at 6:00 PM\, followed by healing services – all free of charge. Image is from the Boston Liberation Center’s social media. RSVP at bit.ly/blcmutulu \n \n  \n 
URL:https://bostonacupunctureproject.org/event/mutulu-shakur-teach-in-acupuncture-clinic/
LOCATION:Boston Liberation Center\, 194 Blue Hill Ave\, Roxbury\, MA\, 02119\, United States
CATEGORIES:class,community event
ORGANIZER;CN="Small Steps Healing Project":MAILTO:smallsteps@wegotusproject.org
END:VEVENT
END:VCALENDAR