BEGIN:VCALENDAR
VERSION:2.0
PRODID:-//Boston Acupuncture Project - ECPv6.15.20//NONSGML v1.0//EN
CALSCALE:GREGORIAN
METHOD:PUBLISH
X-ORIGINAL-URL:https://bostonacupunctureproject.org
X-WR-CALDESC:Events for Boston Acupuncture Project
REFRESH-INTERVAL;VALUE=DURATION:PT1H
X-Robots-Tag:noindex
X-PUBLISHED-TTL:PT1H
BEGIN:VTIMEZONE
TZID:America/New_York
BEGIN:DAYLIGHT
TZOFFSETFROM:-0500
TZOFFSETTO:-0400
TZNAME:EDT
DTSTART:20230312T070000
END:DAYLIGHT
BEGIN:STANDARD
TZOFFSETFROM:-0400
TZOFFSETTO:-0500
TZNAME:EST
DTSTART:20231105T060000
END:STANDARD
BEGIN:DAYLIGHT
TZOFFSETFROM:-0500
TZOFFSETTO:-0400
TZNAME:EDT
DTSTART:20240310T070000
END:DAYLIGHT
BEGIN:STANDARD
TZOFFSETFROM:-0400
TZOFFSETTO:-0500
TZNAME:EST
DTSTART:20241103T060000
END:STANDARD
BEGIN:DAYLIGHT
TZOFFSETFROM:-0500
TZOFFSETTO:-0400
TZNAME:EDT
DTSTART:20250309T070000
END:DAYLIGHT
BEGIN:STANDARD
TZOFFSETFROM:-0400
TZOFFSETTO:-0500
TZNAME:EST
DTSTART:20251102T060000
END:STANDARD
END:VTIMEZONE
BEGIN:VEVENT
DTSTART;TZID=America/New_York:20241205T174500
DTEND;TZID=America/New_York:20241205T190000
DTSTAMP:20260419T105027
CREATED:20241111T222959Z
LAST-MODIFIED:20241116T152150Z
UID:2303-1733420700-1733425200@bostonacupunctureproject.org
SUMMARY:Journey to Inner Knowing: Reiki and Hypnosis Program by Kim Ecevido
DESCRIPTION:Boston Acupuncture Project welcomes holistic therapist Kim Ecevido of Kensho Life to our treatment room. “Journey to Inner Knowing” empowers you to unlock intuition\, develop meaningful self-care practices\, and cultivate lasting harmony across mind\, body\, and spirit. \nEmbark on a profound journey to connect with your higher self\, enhance your intuition\, and create a nurturing space for self-care. Beginning with optional ear acupuncture and reiki\, a Japanese healing technique\, this program establishes an energetic balance to promote well-being\, followed by a hypnosis session to gently guide you inward and access your inner wisdom. \n \nWhat is Reiki?\nReiki is a gentle\, non-invasive healing technique originating from Japan that promotes relaxation\, reduces stress\, and enhances overall well-being. Practitioners channel energy through their hands\, either lightly touching or hovering above the body\, to balance the recipient’s energy and support the body’s natural healing processes. This calming practice helps to relieve tension\, improve mental clarity\, and encourage emotional and spiritual balance. Reiki is used throughout hospitals around the world. Locally Brigham and Women’s\, Children’s Hospital\, and Mass General are just a few that use Reiki for patients on a regular basis. \nWhat is Hypnosis?\nHypnosis is a natural\, focused state of deep relaxation and heightened awareness that allows individuals to access their subconscious mind more easily. We access various states of hypnosis on a regular basis without even knowing. Hypnosis uses suggestions and imagery to help individuals reframe thoughts\, release negative patterns\, and make positive changes. Often used\nfor stress reduction\, habit change\, and self-improvement\, hypnosis works by bypassing the conscious mind to access and transform deeper beliefs and behaviors. \nWhat happens in this program?\nEach participant will receive a few minutes of individual Reiki. Participants may also receive ear acupuncture from licensed acupuncturist Ren Pilinger. Finally\, Kim Ecevido leads a group hypnosis session for 30 minutes. \nWho is Kim?\nKim Ecevido\, founder of Kensho Life\, has over 11 years of experience serving Boston and the surrounding areas\, specializing in women’s wellness through both in-person and online hypnosis and holistic therapies. \nAs a Consulting Hypnotist\, Reiki Master\, Holistic Therapist\, and National Guild of Hypnotists member\, Kim combines hypnosis\, energy healing\, and other holistic practices to help clients achieve balance through their mind\, body\, and spirit. \n \nHer customized sessions address a client’s goals\, including emotional healing\, improved relationships\, grief recovery\, and more. By uncovering and transforming limiting beliefs and patterns\, Kim guides clients in resolving challenges at their root\, empowering lasting change and helping them reach their highest potential. \nHow do I sign up?\nClick this link to register. \nThis program is $55 per person. Any tips added will go toward sustaining BAP’s community programs. You can also donate directly. \nIf finances are a barrier for you\, please reach out to Boston Acupuncture Project.
URL:https://bostonacupunctureproject.org/event/journey-to-inner-knowing-reiki-and-hypnosis-program-by-kim-ecevido/
LOCATION:Boston Acupuncture Project\, 74 Fairmount Ave\, Hyde Park\, MA\, 02136\, United States
CATEGORIES:class,special event
ATTACH;FMTTYPE=image/png:https://bostonacupunctureproject.org/wp-content/uploads/2024/11/2024.12.05-Journey-for-Website-e1731770498256.png
ORGANIZER;CN="Boston Acupuncture Project":MAILTO:contact@bostonacupunctureproject.org
END:VEVENT
END:VCALENDAR