BEGIN:VCALENDAR
VERSION:2.0
PRODID:-//Boston Acupuncture Project - ECPv6.15.20//NONSGML v1.0//EN
CALSCALE:GREGORIAN
METHOD:PUBLISH
X-WR-CALNAME:Boston Acupuncture Project
X-ORIGINAL-URL:https://bostonacupunctureproject.org
X-WR-CALDESC:Events for Boston Acupuncture Project
REFRESH-INTERVAL;VALUE=DURATION:PT1H
X-Robots-Tag:noindex
X-PUBLISHED-TTL:PT1H
BEGIN:VTIMEZONE
TZID:America/New_York
BEGIN:DAYLIGHT
TZOFFSETFROM:-0500
TZOFFSETTO:-0400
TZNAME:EDT
DTSTART:20230312T070000
END:DAYLIGHT
BEGIN:STANDARD
TZOFFSETFROM:-0400
TZOFFSETTO:-0500
TZNAME:EST
DTSTART:20231105T060000
END:STANDARD
BEGIN:DAYLIGHT
TZOFFSETFROM:-0500
TZOFFSETTO:-0400
TZNAME:EDT
DTSTART:20240310T070000
END:DAYLIGHT
BEGIN:STANDARD
TZOFFSETFROM:-0400
TZOFFSETTO:-0500
TZNAME:EST
DTSTART:20241103T060000
END:STANDARD
BEGIN:DAYLIGHT
TZOFFSETFROM:-0500
TZOFFSETTO:-0400
TZNAME:EDT
DTSTART:20250309T070000
END:DAYLIGHT
BEGIN:STANDARD
TZOFFSETFROM:-0400
TZOFFSETTO:-0500
TZNAME:EST
DTSTART:20251102T060000
END:STANDARD
END:VTIMEZONE
BEGIN:VTIMEZONE
TZID:UTC
BEGIN:STANDARD
TZOFFSETFROM:+0000
TZOFFSETTO:+0000
TZNAME:UTC
DTSTART:20210101T000000
END:STANDARD
END:VTIMEZONE
BEGIN:VEVENT
DTSTART;TZID=America/New_York:20240811T103000
DTEND;TZID=America/New_York:20240811T163000
DTSTAMP:20260423T080041
CREATED:20240527T213806Z
LAST-MODIFIED:20240625T152136Z
UID:2138-1723372200-1723393800@bostonacupunctureproject.org
SUMMARY:BAP at Open Streets Boston - Hyde Park
DESCRIPTION:Free acupuncture! Details TBA. From the main website: \n\n\n\n\n\n\nOpen Streets Boston events help people experience streets as public spaces where communities thrive. City streets transform into vibrant\, pedestrian-friendly boulevards where people can dream\, play\, and explore. \n\n\n\n\n\n\n\n\n\n\n\n\n  \n\n  \n\n\nDuring these free\, family-friendly events\, Open Streets Boston will temporarily close major thoroughfares to car traffic. This opens them to people biking\, walking\, rolling\, and connecting with neighbors and local businesses.
URL:https://bostonacupunctureproject.org/event/bap-at-open-streets-boston-hyde-park/
LOCATION:Boston Acupuncture Project\, 74 Fairmount Ave\, Hyde Park\, MA\, 02136\, United States
CATEGORIES:community event,special event
ATTACH;FMTTYPE=image/jpeg:https://bostonacupunctureproject.org/wp-content/uploads/2024/05/2024.05_Ren_Tx_outside_header_by_TDM_Photography.jpg
ORGANIZER;CN="City of Boston Transportation Dept":MAILTO:info@openstreetsboston.org
END:VEVENT
BEGIN:VEVENT
DTSTART;TZID=UTC:20240615T110000
DTEND;TZID=UTC:20240615T143000
DTSTAMP:20260423T080041
CREATED:20240517T034351Z
LAST-MODIFIED:20240606T190335Z
UID:2127-1718449200-1718461800@bostonacupunctureproject.org
SUMMARY:Boston Acupuncture Project at Juneteenth Joy Celebration + Dr. Angela Jamal with ear seeds!
DESCRIPTION:Boston Acupuncture Project joins our community to celebrate freedom and joy at this festive event! We’ll be offering free sample acupuncture treatments and highlighting some of the Black history of acupuncture in the Americas. \nDr. Angela Jamal of Anami Wellness joins us to provide FREE auriculotherapy (ear seed) treatments! Dr. Jamal says: \n I have been an educator and consultant of Holistic Health for over 25 years.  As a doctor of acupuncture (Chinese medicine)\, I chose to specialize in AURICULOTHERAPY or what is also known as Ear acupressure using EARSEEDS in place of acupuncture needles. My goal is to provide holistic health education and treatments that may help not only relieve your pain and discomfort\, but prevent dis-ease using and applying the fundamental healing principles of your body. \nMain event begins at 10:00 AM! Sample acupuncture treatments available 11:00 AM-2:30 PM. Click the image below to register and get more information! Or visit https://westfhcommunity.org/juneteenth/ \n \n 
URL:https://bostonacupunctureproject.org/event/boston-acupuncture-project-at-juneteenth-joy-celebration/
LOCATION:Francis D. Martini Memorial Shell Park and Moynihan Recreation Area\, 1015 Truman Parkway\, Boston\, MA\, 02136\, United States
CATEGORIES:community event,special event
ORGANIZER;CN="West Fairmount Hill Community Group":MAILTO:westfairmounthillcg@gmail.com
END:VEVENT
BEGIN:VEVENT
DTSTART;TZID=UTC:20230812T110000
DTEND;TZID=UTC:20230812T130000
DTSTAMP:20260423T080041
CREATED:20230425T210020Z
LAST-MODIFIED:20230728T072711Z
UID:1815-1691838000-1691845200@bostonacupunctureproject.org
SUMMARY:Boston Acupuncture Project visits Roslindale
DESCRIPTION:Free sample acupuncture treatments! \nTell your Roslindale friends! \nStop by! \nVOLUNTEERS NEEDED – please contact Ren if you are interested. \n(Photo below is from 2019\, which is the last time we went to the Roslindale Farmers Market.)
URL:https://bostonacupunctureproject.org/event/boston-acupuncture-project-visits-roslindale/
LOCATION:Adams Park\, 4225 Washington Street\, Roslindale\, MA\, 02131
CATEGORIES:community event
ORGANIZER;CN="Boston Acupuncture Project":MAILTO:contact@bostonacupunctureproject.org
END:VEVENT
BEGIN:VEVENT
DTSTART;TZID=UTC:20230624T120000
DTEND;TZID=UTC:20230624T150000
DTSTAMP:20260423T080041
CREATED:20230517T043816Z
LAST-MODIFIED:20230601T180428Z
UID:1843-1687608000-1687618800@bostonacupunctureproject.org
SUMMARY:Beyond Pride Wellness Fair x Prideful Pickleball
DESCRIPTION:Come for Pickleball\, stay for our Beyond Pride Wellness Fair! Current offerings: \n\ncommunity acupuncture treatments with Oren “Ren” Pilinger\, Lic.Ac. of Boston Acupuncture Project (Hyde Park\, MA)\nmassage therapy with Luke Bruffee\, LMT of Ankh Massage (Jamaica Plain\, MA)\nfitness class/Queer Gym Pop-Up with Justice Roe Williams of Fitness 4 All Bodies\npranic healing with Christian Verde of Pranic Healing Boston (Brighton\, MA)\n\nBeyond Pride Wellness Fair is supported by a grant from the City of Boston Mayor’s Office of LGBTQ+ Advancement. \nSee below for Prideful Pickleball event details.
URL:https://bostonacupunctureproject.org/event/beyond-pride-wellness-fair-x-prideful-pickleball/
LOCATION:Boston Common Tennis Courts\, 9W3M+GH\, Boston\, MA\, 02108\, United States
CATEGORIES:community event
ORGANIZER;CN="Boston Acupuncture Project":MAILTO:contact@bostonacupunctureproject.org
END:VEVENT
BEGIN:VEVENT
DTSTART;TZID=UTC:20230617T100000
DTEND;TZID=UTC:20230617T150000
DTSTAMP:20260423T080041
CREATED:20230425T203919Z
LAST-MODIFIED:20230616T035158Z
UID:1810-1686996000-1687014000@bostonacupunctureproject.org
SUMMARY:Hyde Park's Juneteenth Celebration
DESCRIPTION:Join us for performances\, vendors\, awards\, living histories exhibit\, activities for youth and adults\, yoga\, zumba\, giveaways\, and more! Register for Juneteenth Joy in Hyde Park 2023 – click here for the registration form. \nBoston Acupuncture Project will be providing free mini acupuncture treatments. We will be joined by Dr. Angela Jamal of Anami Wellness who will be providing free ear seed treatments! \nYou must register to be eligible for giveaways! \nFor more information about the event\, pictures from last year\, and sponsorship information\, please visit the West Fairmount Hill Community Group website: https://westfhcommunity.org/juneteenth/ \nScroll down for flyers: \n 
URL:https://bostonacupunctureproject.org/event/hyde-parks-juneteenth-celebration/
LOCATION:New Mission High School\, 655 Metropolitan Ave\, Hyde Park\, 02136
CATEGORIES:community event
ORGANIZER;CN="West Fairmount Hill Community Group":MAILTO:westfairmounthillcg@gmail.com
END:VEVENT
BEGIN:VEVENT
DTSTART;TZID=UTC:20230615T180000
DTEND;TZID=UTC:20230615T190000
DTSTAMP:20260423T080041
CREATED:20230425T205302Z
LAST-MODIFIED:20230425T205302Z
UID:1812-1686852000-1686855600@bostonacupunctureproject.org
SUMMARY:Acu-pressure and Acupuncture for Well-Being
DESCRIPTION:Acupuncture has been used by humans for thousands of years\, with traditions throughout East Asia presenting different schools of thought on how the body works. Learn about how ancient Daoist observations of nature are still relevant to us today\, including acu-pressure points you can use on yourself at home. \n\nOren “Ren” Pilinger is a graduate of The New England School of Acupuncture at the Massachusetts College of Pharmacy and Health Sciences\, state licensed\, and board certified by the National Certification Commission for Acupuncture and Oriental Medicine (NCCAOM). After practicing at community acupuncture clinics all over Massachusetts\, he co-founded Boston Acupuncture Project\, which opened in Hyde Park in 2018. \nDisclaimer: The library does not give medical advice or interpretation.
URL:https://bostonacupunctureproject.org/event/acu-pressure-and-acupuncture-for-well-being/
LOCATION:Hyde Park Branch of the Boston Public Library\, 35 Harvard Avenue\, Boston\, MA\, 02136\, United States
CATEGORIES:class,community event
ORGANIZER;CN="Boston Acupuncture Project":MAILTO:contact@bostonacupunctureproject.org
END:VEVENT
BEGIN:VEVENT
DTSTART;TZID=UTC:20230508T183000
DTEND;TZID=UTC:20230508T193000
DTSTAMP:20260423T080041
CREATED:20230425T202500Z
LAST-MODIFIED:20230425T202500Z
UID:1804-1683570600-1683574200@bostonacupunctureproject.org
SUMMARY:Mouth Matters: How Oral Health Impacts Your Overall Health
DESCRIPTION:Join DREF Research Matters for this event in-person at the Roxbury Branch of the Boston Public Library. Our guest speaker will be Dr. Jessica Williams\, General Dentist & Dental Public Health Resident at Boston University Henry M. Goldman School of Dental Medicine.
URL:https://bostonacupunctureproject.org/event/mouth-matters-how-oral-health-impacts-your-overall-health/
LOCATION:Roxbury Branch of the Boston Public Library\, 149 Dudley Street\, Boston\, MA\, 02119\, United States
CATEGORIES:community event
ORGANIZER;CN="DREF Research Matters for All Of Us":MAILTO:researchmatters@deltafoundation.net
END:VEVENT
BEGIN:VEVENT
DTSTART;TZID=UTC:20230418T190000
DTEND;TZID=UTC:20230418T200000
DTSTAMP:20260423T080041
CREATED:20230412T234017Z
LAST-MODIFIED:20230412T234017Z
UID:1795-1681844400-1681848000@bostonacupunctureproject.org
SUMMARY:You Have a Right to Be Healthy: Seven Health Vows for Living Your Best Life
DESCRIPTION:DREF Research Matters host a virtual event\, “You Have a Right to Be Healthy: Seven Health Vows for Living Your Best Life ” on Tuesday\, April 18\, at 7 pm. The speaker will be Dr. Liza Swedarsky\, a gynecologic minimally invasive surgeon at Brigham and Women’s Hospital\, and founder and CEO of Health Vows.\n\n\nHere is the link to register for the event: https://bit.ly/7HealthVows
URL:https://bostonacupunctureproject.org/event/you-have-a-right-to-be-healthy-seven-health-vows-for-living-your-best-life/
LOCATION:Virtual
CATEGORIES:community event
ORGANIZER;CN="DREF Research Matters for All Of Us":MAILTO:researchmatters@deltafoundation.net
END:VEVENT
BEGIN:VEVENT
DTSTART;TZID=UTC:20230222T180000
DTEND;TZID=UTC:20230222T193000
DTSTAMP:20260423T080041
CREATED:20230203T022318Z
LAST-MODIFIED:20230203T022318Z
UID:1774-1677088800-1677094200@bostonacupunctureproject.org
SUMMARY:EmpoweRED Hands: heart health\, CPR\, and hypertension discussion
DESCRIPTION:Join the Boston American Heart Association\, the South Middlesex County Alumnae Chapter of Delta Sigma Theta Sorority\, Inc.\, and DREF Research Matters (Boston) for an engaging webinar on heart health\, CPR\, and hypertension. Register online at https://bit.ly/EmpoweREDHands
URL:https://bostonacupunctureproject.org/event/empowered-hands-heart-health-cpr-and-hypertension-discussion/
LOCATION:Virtual
CATEGORIES:community event,virtual
ORGANIZER;CN="DREF Research Matters for All Of Us":MAILTO:researchmatters@deltafoundation.net
END:VEVENT
BEGIN:VEVENT
DTSTART;TZID=UTC:20230125T190000
DTEND;TZID=UTC:20230125T190000
DTSTAMP:20260423T080041
CREATED:20230120T023722Z
LAST-MODIFIED:20230124T220504Z
UID:1755-1674673200-1674673200@bostonacupunctureproject.org
SUMMARY:Maternal Health: a closer look into at-risk pregnancies
DESCRIPTION:Join Dr. Ayana McCoy\, Boston Citywide Coordinator for DREF Research Matters for All Of Us\, hosting guest speaker Darline Turner\, BS\, MHS\, PA-C\, CD(DONA) of Darline Turner Enterprises\, Inc.\, Mamas On Bedrest & Beyond\, Healing Hands Community Doula Project. \nClick here to register.
URL:https://bostonacupunctureproject.org/event/maternal-health-a-closer-look-into-at-risk-pregnancies/
LOCATION:Virtual
CATEGORIES:community event,virtual
ORGANIZER;CN="DREF Research Matters for All Of Us":MAILTO:researchmatters@deltafoundation.net
END:VEVENT
BEGIN:VEVENT
DTSTART;TZID=UTC:20220918T100000
DTEND;TZID=UTC:20220918T110000
DTSTAMP:20260423T080041
CREATED:20220911T014457Z
LAST-MODIFIED:20220911T014630Z
UID:1525-1663495200-1663498800@bostonacupunctureproject.org
SUMMARY:Yoga + Acupuncture at Rev. Loesch Family Park
DESCRIPTION:Join 4 Corners Yoga + Wellness for 2 free/donation-based outdoor classes! \nCommunity In Nature Yoga Classes:\nSunday\, Sept. 11 at Mother’s Rest Park\, 10-11 AM\nSunday\, Sept. 18 at Rev. Loesch Family Park\, 10-11 AM \nTo see details and register:\n1. Visit https://www.4cornersyogawellness.com/yoga\n2. Select the date of the class on the scheduler at the top of the page\n3. Click the green “book” button next to the class name. \n(Drop-ins are also welcome!) \nAt the end of these classes\, Boston Acupuncture Project provides free relaxation acupuncture. Please bring your own yoga mat!
URL:https://bostonacupunctureproject.org/event/yoga-acupuncture-at-rev-loesch-family-park/
LOCATION:Reverend Loesch Family Park\, 20 Wainwright Street\, Boston\, MA\, 02124\, United States
CATEGORIES:class,community event
ORGANIZER;CN="4 Corners Yoga + Wellness":MAILTO:info@4cornersyogawellness.com
END:VEVENT
BEGIN:VEVENT
DTSTART;TZID=UTC:20220911T100000
DTEND;TZID=UTC:20220911T110000
DTSTAMP:20260423T080041
CREATED:20220911T014234Z
LAST-MODIFIED:20220911T014714Z
UID:1520-1662890400-1662894000@bostonacupunctureproject.org
SUMMARY:Yoga + Acupuncture at Mother's Rest Park
DESCRIPTION:Join 4 Corners Yoga + Wellness for 2 free/donation-based outdoor classes! \nCommunity In Nature Yoga Classes:\nSunday\, Sept. 11 at Mother’s Rest Park\, 10-11 AM\nSunday\, Sept. 18 at Rev. Loesch Family Park\, 10-11 AM \nTo see details and register:\n1. Visit https://www.4cornersyogawellness.com/yoga\n2. Select the date of the class on the scheduler at the top of the page\n3. Click the green “book” button next to the class name. \n(Drop-ins are also welcome!) \nAt the end of these classes\, Boston Acupuncture Project provides free relaxation acupuncture. Please bring your own yoga mat!
URL:https://bostonacupunctureproject.org/event/yoga-acupuncture-at-mothers-rest-park/
LOCATION:Mother’s Rest Park\, 410 Washington Street\, Boston\, 02124\, United States
CATEGORIES:class,community event,special offer
ORGANIZER;CN="4 Corners Yoga + Wellness":MAILTO:info@4cornersyogawellness.com
END:VEVENT
BEGIN:VEVENT
DTSTART;TZID=UTC:20220618T110000
DTEND;TZID=UTC:20220618T140000
DTSTAMP:20260423T080041
CREATED:20220609T195404Z
LAST-MODIFIED:20220609T195404Z
UID:1462-1655550000-1655560800@bostonacupunctureproject.org
SUMMARY:Juneteenth Joy in Hyde Park
DESCRIPTION:Boston Acupuncture Project offers free sample treatments as well as education on the Black history of acupuncture in the USA at Hyde Park’s annual Juneteenth celebration. \nCelebrate Juneteenth! Register at https://westfhcommunity.org/juneteenth/\n \n(Click image above for updated PDF version of this flyer.) \nKeynote address: Segun Idowu\, City of Boston Chief of Economic Opportunity and Inclusion\nMayoral Address: Michelle Wu\, Mayor of Boston\nSpecial Honoree: Kim Janey\, Former Mayor of Boston\nMistresses of Ceremonies: City Councilors Ruthzee Louijeune and Julia Mejia\nSpeaker: Conan Harris\, CEO/Founder at Conan Harris & Associates\nFeatured Ceremony Openers:Brandy Fluker Oakley State Representative 12th Suffolk District\nRob Consalvo State Representative 12th Suffolk District\nRicardo Arroyo City Councilor District 5\nTanisha Sullivan President Boston Branch\, NAACP\nInvited Speaker: Congresswoman Ayanna Pressley\nSpecial guests: The 54th Regiment Company B \nActivities: \n• Group Paint Party \n• African Dance Lessons \n• Chicago Step Lessons \n• Relax Now- 5-minute Massages \n• Bouncy House – Menino YMCA \n• Children’s Activities – Field games \n• Drumming Lessons \n• Kids Storytelling and Free Book Giveaway \n• Kidogo Kids Paint Kits \n• Family Photo Booth \n• Hourly Giveaways \n• Roosevelt School Student performances \nFood Samples from: \n• Zaz Restaurant \n• Las Columbias \n• Fair Nutrition Smoothies \n• Gourmet Fish \n• Park 54 Restaurant \n• Ben and Jerry’s Ice Cream \n• Manyi Juices \n• Cappy’s Pizza \n• Effies cookies \n• Shaws Supermarket \nExhibits & Vendors \n• Dress with Confidence (African  Clothing) \n• The Switch Coop (African Inspired Art  pieces) \n• We Grow Microgreens \n• Intriguing Hair (Black Hair accessories) \n• HP Historical Society \n• Keep Hyde Park Beautiful \n• Lady Dye Yarns \n• My Crown Speaks Exhibit/Sales \n• And more! \nFree Swag Bags! \nPre-event Activities: June 18- 8:45 am – Yoga For All and Group Weight Training Register here: https://bit.ly/Junejoyhp \nSponsored by:\nRockland Trust Bank\nBoston Mayor’s Office of Arts and Culture\nNeedham Bank\nCoalition for a Resilient and Inclusive Waterfron\nDepartment of Conservation and Recreation (DCR)\nInsight Realty Group\nNew England Aquarium\nGreater Boston Convention and Visitors Bureau\nLeadvantEDGE\n(This may not be a complete list of sponsors!) \nThis program is supported in part by a grant from the Mayor’s Office of Arts and Culture and the City of Boston.
URL:https://bostonacupunctureproject.org/event/juneteenth-joy-in-hyde-park/
LOCATION:Francis D. Martini Memorial Shell Park and Moynihan Recreation Area\, 1015 Truman Parkway\, Boston\, MA\, 02136\, United States
CATEGORIES:community event
ORGANIZER;CN="West Fairmount Hill Community Group":MAILTO:westfairmounthillcg@gmail.com
END:VEVENT
END:VCALENDAR