BEGIN:VCALENDAR
VERSION:2.0
PRODID:-//Boston Acupuncture Project - ECPv6.15.20//NONSGML v1.0//EN
CALSCALE:GREGORIAN
METHOD:PUBLISH
X-ORIGINAL-URL:https://bostonacupunctureproject.org
X-WR-CALDESC:Events for Boston Acupuncture Project
REFRESH-INTERVAL;VALUE=DURATION:PT1H
X-Robots-Tag:noindex
X-PUBLISHED-TTL:PT1H
BEGIN:VTIMEZONE
TZID:America/New_York
BEGIN:DAYLIGHT
TZOFFSETFROM:-0500
TZOFFSETTO:-0400
TZNAME:EDT
DTSTART:20250309T070000
END:DAYLIGHT
BEGIN:STANDARD
TZOFFSETFROM:-0400
TZOFFSETTO:-0500
TZNAME:EST
DTSTART:20251102T060000
END:STANDARD
BEGIN:DAYLIGHT
TZOFFSETFROM:-0500
TZOFFSETTO:-0400
TZNAME:EDT
DTSTART:20260308T070000
END:DAYLIGHT
BEGIN:STANDARD
TZOFFSETFROM:-0400
TZOFFSETTO:-0500
TZNAME:EST
DTSTART:20261101T060000
END:STANDARD
BEGIN:DAYLIGHT
TZOFFSETFROM:-0500
TZOFFSETTO:-0400
TZNAME:EDT
DTSTART:20270314T070000
END:DAYLIGHT
BEGIN:STANDARD
TZOFFSETFROM:-0400
TZOFFSETTO:-0500
TZNAME:EST
DTSTART:20271107T060000
END:STANDARD
END:VTIMEZONE
BEGIN:VEVENT
DTSTART;TZID=America/New_York:20260502T154500
DTEND;TZID=America/New_York:20260502T170000
DTSTAMP:20260422T184532
CREATED:20260401T033930Z
LAST-MODIFIED:20260421T182849Z
UID:2701-1777736700-1777741200@bostonacupunctureproject.org
SUMMARY:AcuSound
DESCRIPTION:Immersive sound bath + restorative acupuncture = AcuSound. \nJoin us for a live ambient sound bath from certified sound healer Gillian N. Miller of Mindful Mavens while you receive an acupuncture treatment from licensed acupuncturist Ren Pilinger. \nSound has the capacity to shift energy and restore the mind\, body\, and spirit to a balanced state. Many ancient cultures have used sound as invocations\, in ceremony and rituals to offer healing. -Gillian N. Miller\, certified sound healer \nDoors open at 3:45 PM; sound bath begins at 4:00 PM. Please arrive by 4:10 PM. \nNotes about BAP: \n\nface masks required\nlow/no fragrance due to chemical sensitivities\nother accessibility info here.\n\nSign up by 7:00 PM on Friday\, May 1\, 2026. Register for AcuSound at this link!.\n \n\n \nPlease get in touch if you have any questions! contact @ bostonacupunctureproject.org / 617-506-3868
URL:https://bostonacupunctureproject.org/event/acusound-18/
LOCATION:Boston Acupuncture Project\, 74 Fairmount Ave\, Hyde Park\, MA\, 02136\, United States
CATEGORIES:special event
ATTACH;FMTTYPE=image/jpeg:https://bostonacupunctureproject.org/wp-content/uploads/2025/10/AcuSound-Saturday-Header-1-e1768338076203.jpg
ORGANIZER;CN="Boston Acupuncture Project":MAILTO:contact@bostonacupunctureproject.org
END:VEVENT
BEGIN:VEVENT
DTSTART;TZID=America/New_York:20260531T110000
DTEND;TZID=America/New_York:20260531T140000
DTSTAMP:20260422T184532
CREATED:20260401T035827Z
LAST-MODIFIED:20260417T195031Z
UID:2706-1780225200-1780236000@bostonacupunctureproject.org
SUMMARY:Spring Celebration 2026
DESCRIPTION:Join us for our annual Spring Celebration wellness event with free healing offerings! \n\nFree Community Acupuncture\nFree Chair Massage from Imani Massage\nMore Wellness Offerings TBA\n\nCelebrate and support community with a contribution to our annual Spring Fundraiser: \n\n\nYour contributions are tax-deductible to the fullest extent of the law. Boston Acupuncture Project is a 501c3 non-profit organization. Our mission is to provide affordable and accessible acupuncture in a group setting\, Chinese herbal medicine\, and other forms of holistic healthcare. By offering relief from pain\, stress\, and isolation\, we aim to contribute to the well-being of individual people\, and the strength of our community as a whole. \nYour donations support our general operating expenses and community programs.
URL:https://bostonacupunctureproject.org/event/spring-celebration-2026/
LOCATION:Boston Acupuncture Project\, 74 Fairmount Ave\, Hyde Park\, MA\, 02136\, United States
CATEGORIES:community event,free day
ATTACH;FMTTYPE=image/png:https://bostonacupunctureproject.org/wp-content/uploads/2026/03/BostonAcupunctureProject.orgdonate.png
ORGANIZER;CN="Boston Acupuncture Project":MAILTO:contact@bostonacupunctureproject.org
END:VEVENT
END:VCALENDAR