BEGIN:VCALENDAR
VERSION:2.0
PRODID:-//Boston Acupuncture Project - ECPv6.15.20//NONSGML v1.0//EN
CALSCALE:GREGORIAN
METHOD:PUBLISH
X-ORIGINAL-URL:https://bostonacupunctureproject.org
X-WR-CALDESC:Events for Boston Acupuncture Project
REFRESH-INTERVAL;VALUE=DURATION:PT1H
X-Robots-Tag:noindex
X-PUBLISHED-TTL:PT1H
BEGIN:VTIMEZONE
TZID:America/New_York
BEGIN:DAYLIGHT
TZOFFSETFROM:-0500
TZOFFSETTO:-0400
TZNAME:EDT
DTSTART:20230312T070000
END:DAYLIGHT
BEGIN:STANDARD
TZOFFSETFROM:-0400
TZOFFSETTO:-0500
TZNAME:EST
DTSTART:20231105T060000
END:STANDARD
BEGIN:DAYLIGHT
TZOFFSETFROM:-0500
TZOFFSETTO:-0400
TZNAME:EDT
DTSTART:20240310T070000
END:DAYLIGHT
BEGIN:STANDARD
TZOFFSETFROM:-0400
TZOFFSETTO:-0500
TZNAME:EST
DTSTART:20241103T060000
END:STANDARD
BEGIN:DAYLIGHT
TZOFFSETFROM:-0500
TZOFFSETTO:-0400
TZNAME:EDT
DTSTART:20250309T070000
END:DAYLIGHT
BEGIN:STANDARD
TZOFFSETFROM:-0400
TZOFFSETTO:-0500
TZNAME:EST
DTSTART:20251102T060000
END:STANDARD
END:VTIMEZONE
BEGIN:VEVENT
DTSTART;TZID=America/New_York:20240927T140000
DTEND;TZID=America/New_York:20240927T180000
DTSTAMP:20260422T211706
CREATED:20240827T000215Z
LAST-MODIFIED:20240829T022034Z
UID:2227-1727445600-1727460000@bostonacupunctureproject.org
SUMMARY:BAP visits Ashmont Friday Market
DESCRIPTION:From the Greater Ashmont Main Street website: “Since [2008] the Market has become a beloved Dorchester Institution each Friday in Peabody Square! \n\nWhen? Opening day will be July 12\, 2024 and the market will run every Friday afternoon from 2 to 6 PM until the October 25\, 2024.\nWhere? on Droser Plaza\, outside Ashmont MBTA station at 1900 Dorchester Ave.\nWhat forms of payment do you accept? Market vendors accept cash\, credit/debit cards\, Farmer’s Market Coupons\, SNAP/EBT\, HIP\, and EBT .  Some vendors also accept WIC and SFMNP coupons.”\n\nBAP visits this particular Market to offer free sample acupuncutre. Do you live near Ashmont station? Interested in chatting with your neighbors and helping sign people up for free treatments? Get in touch with Ren about volunteering!
URL:https://bostonacupunctureproject.org/event/bap-visits-ashmont-friday-market/
LOCATION:Ashmont MBTA Station – Droser Plaza\, 1900 Dorchester Ave\, Dorchester\, MA\, 02124\, United States
CATEGORIES:community event
ATTACH;FMTTYPE=image/png:https://bostonacupunctureproject.org/wp-content/uploads/2024/08/2024.09.27-Ashmont-Farmers-Market-header-Presentation-e1724898025498.png
ORGANIZER;CN="Greater Ashmont Main Street":MAILTO:info@greaterashmont.org
END:VEVENT
END:VCALENDAR