BEGIN:VCALENDAR
VERSION:2.0
PRODID:-//Boston Acupuncture Project - ECPv6.15.20//NONSGML v1.0//EN
CALSCALE:GREGORIAN
METHOD:PUBLISH
X-ORIGINAL-URL:https://bostonacupunctureproject.org
X-WR-CALDESC:Events for Boston Acupuncture Project
REFRESH-INTERVAL;VALUE=DURATION:PT1H
X-Robots-Tag:noindex
X-PUBLISHED-TTL:PT1H
BEGIN:VTIMEZONE
TZID:America/New_York
BEGIN:DAYLIGHT
TZOFFSETFROM:-0500
TZOFFSETTO:-0400
TZNAME:EDT
DTSTART:20250309T070000
END:DAYLIGHT
BEGIN:STANDARD
TZOFFSETFROM:-0400
TZOFFSETTO:-0500
TZNAME:EST
DTSTART:20251102T060000
END:STANDARD
BEGIN:DAYLIGHT
TZOFFSETFROM:-0500
TZOFFSETTO:-0400
TZNAME:EDT
DTSTART:20260308T070000
END:DAYLIGHT
BEGIN:STANDARD
TZOFFSETFROM:-0400
TZOFFSETTO:-0500
TZNAME:EST
DTSTART:20261101T060000
END:STANDARD
BEGIN:DAYLIGHT
TZOFFSETFROM:-0500
TZOFFSETTO:-0400
TZNAME:EDT
DTSTART:20270314T070000
END:DAYLIGHT
BEGIN:STANDARD
TZOFFSETFROM:-0400
TZOFFSETTO:-0500
TZNAME:EST
DTSTART:20271107T060000
END:STANDARD
END:VTIMEZONE
BEGIN:VEVENT
DTSTART;TZID=America/New_York:20260411T150000
DTEND;TZID=America/New_York:20260411T170000
DTSTAMP:20260422T232738
CREATED:20260313T234249Z
LAST-MODIFIED:20260411T010655Z
UID:2689-1775919600-1775926800@bostonacupunctureproject.org
SUMMARY:PRIDE Fund Open House
DESCRIPTION:Are you a member of the LGBTQIA2S+ community in the City of Boston? \nAre you stressed the #%&$ out? \nJoin us on Saturday\, April 11 from 3-5 PM to learn about the 2026 PRIDE Fund at Boston Acupuncture Project! \nHear about: \n\nhow acupuncture can benefit you\nwhat makes community acupuncture different\nand how the PRIDE Fund works.\n\nPlease RSVP using the form below.\nLoading… \nCan’t make it? Our Zoom Open House is Wednesday\, April 8\, 7:00-8:00 PM. You can also give us a call to learn more: 617-506-3868
URL:https://bostonacupunctureproject.org/event/pride-fund-open-house/
LOCATION:Boston Acupuncture Project\, 74 Fairmount Ave\, Hyde Park\, MA\, 02136\, United States
CATEGORIES:community event
ATTACH;FMTTYPE=image/png:https://bostonacupunctureproject.org/wp-content/uploads/2024/06/PRIDE-Fund-Cover.png
ORGANIZER;CN="Boston Acupuncture Project":MAILTO:contact@bostonacupunctureproject.org
END:VEVENT
END:VCALENDAR