BEGIN:VCALENDAR
VERSION:2.0
PRODID:-//Boston Acupuncture Project - ECPv6.15.20//NONSGML v1.0//EN
CALSCALE:GREGORIAN
METHOD:PUBLISH
X-ORIGINAL-URL:https://bostonacupunctureproject.org
X-WR-CALDESC:Events for Boston Acupuncture Project
REFRESH-INTERVAL;VALUE=DURATION:PT1H
X-Robots-Tag:noindex
X-PUBLISHED-TTL:PT1H
BEGIN:VTIMEZONE
TZID:America/New_York
BEGIN:DAYLIGHT
TZOFFSETFROM:-0500
TZOFFSETTO:-0400
TZNAME:EDT
DTSTART:20240310T070000
END:DAYLIGHT
BEGIN:STANDARD
TZOFFSETFROM:-0400
TZOFFSETTO:-0500
TZNAME:EST
DTSTART:20241103T060000
END:STANDARD
BEGIN:DAYLIGHT
TZOFFSETFROM:-0500
TZOFFSETTO:-0400
TZNAME:EDT
DTSTART:20250309T070000
END:DAYLIGHT
BEGIN:STANDARD
TZOFFSETFROM:-0400
TZOFFSETTO:-0500
TZNAME:EST
DTSTART:20251102T060000
END:STANDARD
BEGIN:DAYLIGHT
TZOFFSETFROM:-0500
TZOFFSETTO:-0400
TZNAME:EDT
DTSTART:20260308T070000
END:DAYLIGHT
BEGIN:STANDARD
TZOFFSETFROM:-0400
TZOFFSETTO:-0500
TZNAME:EST
DTSTART:20261101T060000
END:STANDARD
END:VTIMEZONE
BEGIN:VEVENT
DTSTART;TZID=America/New_York:20250221T160000
DTEND;TZID=America/New_York:20250221T180000
DTSTAMP:20260426T000342
CREATED:20250205T173509Z
LAST-MODIFIED:20250206T003530Z
UID:2379-1740153600-1740160800@bostonacupunctureproject.org
SUMMARY:Fundraiser for Afrimerican Culture Initiative
DESCRIPTION:This month\, BAP hosts a fundraiser for Afrimerican Culture Initiative Inc (ACI)! Join us for community acupuncture on Friday\, Feb 21\, 4-6 PM. \nEstablished in Boston\, ACI is a visionary nonprofit organization specializing in Cultural Diversity\, Equity & Inclusion (CDEI) and Restorative Project Management (RPM). Our mission since 2015: to weave a fabric of unity within Boston’s multicultural landscape through strategic education\, innovative technology\, and meaningful travel experiences. \nDuring this event\, 100% of net proceeds* will be donated to ACI. (Visit Afrimericanone.org to donate directly to Afrimerican Culture Initiative.) \nRecommended donation: $40-$100 \nNo one turned away for lack of funds. \nPlease register or stop by to join us! \nBe sure to join Afrimerican Culture Initiative for their Black History Month event series\, Boston Redline 87. Details and tickets at: https://www.eventbrite.com/cc/bostonredline87-black-history-month-event-series-3839873 \n  \n  \n*(minus fees charged by our credit card processors)
URL:https://bostonacupunctureproject.org/event/fundraiser-for-afrimerican-culture-initiative/
LOCATION:Boston Acupuncture Project\, 74 Fairmount Ave\, Hyde Park\, MA\, 02136\, United States
CATEGORIES:by donation day,community event,fundraising,special event
ATTACH;FMTTYPE=image/jpeg:https://bostonacupunctureproject.org/wp-content/uploads/2025/02/Afrimerican-Fundraiser-Feb-025-Website-header-e1738802117381.jpg
ORGANIZER;CN="Boston Acupuncture Project":MAILTO:contact@bostonacupunctureproject.org
END:VEVENT
END:VCALENDAR