BEGIN:VCALENDAR
VERSION:2.0
PRODID:-//Boston Acupuncture Project - ECPv6.15.20//NONSGML v1.0//EN
CALSCALE:GREGORIAN
METHOD:PUBLISH
X-WR-CALNAME:Boston Acupuncture Project
X-ORIGINAL-URL:https://bostonacupunctureproject.org
X-WR-CALDESC:Events for Boston Acupuncture Project
REFRESH-INTERVAL;VALUE=DURATION:PT1H
X-Robots-Tag:noindex
X-PUBLISHED-TTL:PT1H
BEGIN:VTIMEZONE
TZID:America/New_York
BEGIN:DAYLIGHT
TZOFFSETFROM:-0500
TZOFFSETTO:-0400
TZNAME:EDT
DTSTART:20240310T070000
END:DAYLIGHT
BEGIN:STANDARD
TZOFFSETFROM:-0400
TZOFFSETTO:-0500
TZNAME:EST
DTSTART:20241103T060000
END:STANDARD
BEGIN:DAYLIGHT
TZOFFSETFROM:-0500
TZOFFSETTO:-0400
TZNAME:EDT
DTSTART:20250309T070000
END:DAYLIGHT
BEGIN:STANDARD
TZOFFSETFROM:-0400
TZOFFSETTO:-0500
TZNAME:EST
DTSTART:20251102T060000
END:STANDARD
BEGIN:DAYLIGHT
TZOFFSETFROM:-0500
TZOFFSETTO:-0400
TZNAME:EDT
DTSTART:20260308T070000
END:DAYLIGHT
BEGIN:STANDARD
TZOFFSETFROM:-0400
TZOFFSETTO:-0500
TZNAME:EST
DTSTART:20261101T060000
END:STANDARD
END:VTIMEZONE
BEGIN:VEVENT
DTSTART;TZID=America/New_York:20250614T080000
DTEND;TZID=America/New_York:20250614T150000
DTSTAMP:20260424T073030
CREATED:20250608T042246Z
LAST-MODIFIED:20250608T042246Z
UID:2518-1749888000-1749913200@bostonacupunctureproject.org
SUMMARY:Acupuncture at Juneteenth Joy
DESCRIPTION:SO MUCH is happening at Hyde Park’s Juneteenth Joy celebration! BAP continues our tradition of providing acupuncture to attendees at no cost. Join us from 10:00 AM-2:30 PM for a treatment. (Hey\, those are almost normal clinic hours!) The event will be at the Martini Shell Park unless it rains. Please be sure to register for Juneteenth Joy to stay updated on any schedule or venue changes! \nWe’re also looking for Boston Acupuncture Project volunteers. We need you to help sign people up for free acupuncture treatments! Please text or email Ren if you’re interested in helping with BAP’s activities at Juneteenth Joy.
URL:https://bostonacupunctureproject.org/event/acupuncture-at-juneteenth-joy/
LOCATION:Francis D. Martini Memorial Shell Park and Moynihan Recreation Area\, 1015 Truman Parkway\, Boston\, MA\, 02136\, United States
CATEGORIES:community event,free day
END:VEVENT
END:VCALENDAR