BEGIN:VCALENDAR
VERSION:2.0
PRODID:-//Boston Acupuncture Project - ECPv6.15.20//NONSGML v1.0//EN
CALSCALE:GREGORIAN
METHOD:PUBLISH
X-WR-CALNAME:Boston Acupuncture Project
X-ORIGINAL-URL:https://bostonacupunctureproject.org
X-WR-CALDESC:Events for Boston Acupuncture Project
REFRESH-INTERVAL;VALUE=DURATION:PT1H
X-Robots-Tag:noindex
X-PUBLISHED-TTL:PT1H
BEGIN:VTIMEZONE
TZID:America/New_York
BEGIN:DAYLIGHT
TZOFFSETFROM:-0500
TZOFFSETTO:-0400
TZNAME:EDT
DTSTART:20240310T070000
END:DAYLIGHT
BEGIN:STANDARD
TZOFFSETFROM:-0400
TZOFFSETTO:-0500
TZNAME:EST
DTSTART:20241103T060000
END:STANDARD
BEGIN:DAYLIGHT
TZOFFSETFROM:-0500
TZOFFSETTO:-0400
TZNAME:EDT
DTSTART:20250309T070000
END:DAYLIGHT
BEGIN:STANDARD
TZOFFSETFROM:-0400
TZOFFSETTO:-0500
TZNAME:EST
DTSTART:20251102T060000
END:STANDARD
BEGIN:DAYLIGHT
TZOFFSETFROM:-0500
TZOFFSETTO:-0400
TZNAME:EDT
DTSTART:20260308T070000
END:DAYLIGHT
BEGIN:STANDARD
TZOFFSETFROM:-0400
TZOFFSETTO:-0500
TZNAME:EST
DTSTART:20261101T060000
END:STANDARD
END:VTIMEZONE
BEGIN:VEVENT
DTSTART;TZID=America/New_York:20251114T160000
DTEND;TZID=America/New_York:20251114T180000
DTSTAMP:20260422T123355
CREATED:20251029T234936Z
LAST-MODIFIED:20251106T173134Z
UID:2615-1763136000-1763143200@bostonacupunctureproject.org
SUMMARY:Fundraiser for Hyde Park Food Pantry
DESCRIPTION:This month\, BAP hosts a fundraiser for the Hyde Park Food Pantry. Join us for community acupuncture on Friday\, November 14\, 4-6 PM. Click here to save your spot. \nOur mission is to provide hunger relief to our neighbors who can’t make ends meet. \nDuring this event\, 100% of net proceeds* will be donated to the Hyde Park Food Pantry. Donate directly to the Hyde Park Food Pantry via Venmo or take some time to volunteer! Visit their website for more information: http://www.hydeparkfoodpantry.org/ \nA poster from the Hyde Park Food Pantry describes needed items including supermarket gift cards and monetary donations made via Venmo to @HydeParkFoodPantry. Checks can be mailed and donations can be dropped off to Hyde Park Food Pantry\, 1179 River Street\, Hyde Park\, MA 02136. Email mdietzel1@gmail.com to coordinate drop offs. \nRecommended donation: $40-$100 \nNo one turned away for lack of funds. \nPlease register or stop by to join us! \n*minus fees charged by our credit card processors
URL:https://bostonacupunctureproject.org/event/fundraiser-for-hyde-park-food-pantry/
LOCATION:Boston Acupuncture Project\, 74 Fairmount Ave\, Hyde Park\, MA\, 02136\, United States
CATEGORIES:fundraising,special event
ATTACH;FMTTYPE=image/jpeg:https://bostonacupunctureproject.org/wp-content/uploads/2025/10/Fri-Fundraiser-for-HP-Food-Pantry-Header.jpg
ORGANIZER;CN="Boston Acupuncture Project":MAILTO:contact@bostonacupunctureproject.org
END:VEVENT
BEGIN:VEVENT
DTSTART;TZID=America/New_York:20251129T100000
DTEND;TZID=America/New_York:20251129T140000
DTSTAMP:20260422T123355
CREATED:20251030T000158Z
LAST-MODIFIED:20251120T182156Z
UID:2617-1764410400-1764424800@bostonacupunctureproject.org
SUMMARY:7th Birthday Celebration
DESCRIPTION:BAP Celebrates 7 years of our Hyde Park Clinic! \nJoin us for: \n\n\n\nOpen House with volunteer-led tours\nFree sample acupuncture treatments\nFree chair massage thanks to Imani Massage\n\n\n\n  \n\nSpecial coupon for New Acupuncture Visits (good through 12/6/2025)\nMeet volunteers\, board members\, and neighbors\nSnacks and swag\n\nHow: \n\nJust walk in from 10am-2pm on Saturday\, November 29\nTo get an event reminder\, RSVP below\nYou can also reserve a specific time by clicking here to make a free appointment\nShare this event! Shortlink: bit.ly/BAPturns7\nBoston Acupuncture Project 7th Birthday Celebration is also on Facebook (click here)
URL:https://bostonacupunctureproject.org/event/7th-birthday-celebration/
LOCATION:Boston Acupuncture Project\, 74 Fairmount Ave\, Hyde Park\, MA\, 02136\, United States
CATEGORIES:free day,special event
ATTACH;FMTTYPE=image/jpeg:https://bostonacupunctureproject.org/wp-content/uploads/2025/10/BAP-7th-Birthday-Facebook-Cover.jpg
ORGANIZER;CN="Boston Acupuncture Project":MAILTO:contact@bostonacupunctureproject.org
END:VEVENT
END:VCALENDAR