BEGIN:VCALENDAR
VERSION:2.0
PRODID:-//Boston Acupuncture Project - ECPv6.15.20//NONSGML v1.0//EN
CALSCALE:GREGORIAN
METHOD:PUBLISH
X-WR-CALNAME:Boston Acupuncture Project
X-ORIGINAL-URL:https://bostonacupunctureproject.org
X-WR-CALDESC:Events for Boston Acupuncture Project
REFRESH-INTERVAL;VALUE=DURATION:PT1H
X-Robots-Tag:noindex
X-PUBLISHED-TTL:PT1H
BEGIN:VTIMEZONE
TZID:America/New_York
BEGIN:DAYLIGHT
TZOFFSETFROM:-0500
TZOFFSETTO:-0400
TZNAME:EDT
DTSTART:20240310T070000
END:DAYLIGHT
BEGIN:STANDARD
TZOFFSETFROM:-0400
TZOFFSETTO:-0500
TZNAME:EST
DTSTART:20241103T060000
END:STANDARD
BEGIN:DAYLIGHT
TZOFFSETFROM:-0500
TZOFFSETTO:-0400
TZNAME:EDT
DTSTART:20250309T070000
END:DAYLIGHT
BEGIN:STANDARD
TZOFFSETFROM:-0400
TZOFFSETTO:-0500
TZNAME:EST
DTSTART:20251102T060000
END:STANDARD
BEGIN:DAYLIGHT
TZOFFSETFROM:-0500
TZOFFSETTO:-0400
TZNAME:EDT
DTSTART:20260308T070000
END:DAYLIGHT
BEGIN:STANDARD
TZOFFSETFROM:-0400
TZOFFSETTO:-0500
TZNAME:EST
DTSTART:20261101T060000
END:STANDARD
END:VTIMEZONE
BEGIN:VEVENT
DTSTART;TZID=America/New_York:20250810T103000
DTEND;TZID=America/New_York:20250810T143000
DTSTAMP:20260425T102228
CREATED:20250805T193253Z
LAST-MODIFIED:20250805T194139Z
UID:2559-1754821800-1754836200@bostonacupunctureproject.org
SUMMARY:Free Sample Treatments at Hyde Park Open Streets
DESCRIPTION:We’ll be offering FREE sample acupuncture treatment outdoors. For more information on the event please visit https://www.boston.gov/calendar/open-streets-boston-hyde-park
URL:https://bostonacupunctureproject.org/event/free-sample-treatments-at-hyde-park-open-streets/
LOCATION:55 Fairmount Ave\, Hyde Park\, MA 02136\, 55 Fairmount Ave\, Hyde Park\, 02136\, United States
CATEGORIES:community event,free day,special event
ORGANIZER;CN="Boston Acupuncture Project":MAILTO:contact@bostonacupunctureproject.org
END:VEVENT
END:VCALENDAR